BEGIN:VCALENDAR
VERSION:2.0
PRODID:SchoolNow
CALSCALE:GREGORIAN
BEGIN:VEVENT
UID:fe5b26b4-0208-11f1-82c4-0a58a9feac02
DTSTAMP:20260421T190507Z
SUMMARY:8th Grade Scheduling with NHS Counselors in SS Classes
URL;VALUE=URI:https://www.tusd.org/schools/magruder/calendar/8849672/8th-gr
 ade-scheduling-with-nhs-counselors-in-ss-classes
DTSTART;VALUE=DATE:20260416
DTEND;VALUE=DATE:20260417
END:VEVENT
END:VCALENDAR
