BEGIN:VCALENDAR
VERSION:2.0
PRODID:SchoolNow
CALSCALE:GREGORIAN
BEGIN:VEVENT
UID:4433961e-fca8-11f0-b552-0affff351501
DTSTAMP:20260421T190507Z
SUMMARY:Magruder vs Casimir @NHS
URL;VALUE=URI:https://www.tusd.org/schools/magruder/calendar/8846366/magrud
 er-vs-casimir-nhs
DTSTART:20260311T010000Z
DTEND:20260311T030000Z
END:VEVENT
END:VCALENDAR
