BEGIN:VCALENDAR
VERSION:2.0
PRODID:SchoolNow
CALSCALE:GREGORIAN
BEGIN:VEVENT
UID:443393da-fca8-11f0-92e0-0affff351501
DTSTAMP:20260422T011007Z
SUMMARY:BB-Magruder@Calle-GF
LOCATION:Calle
URL;VALUE=URI:https://www.tusd.org/schools/magruder/calendar/8846365/bb-mag
 ruder-calle-gf
DTSTART:20260227T000000Z
DTEND:20260227T020000Z
END:VEVENT
END:VCALENDAR
