BEGIN:VCALENDAR
VERSION:2.0
PRODID:SchoolNow
CALSCALE:GREGORIAN
BEGIN:VEVENT
UID:4433916e-fca8-11f0-b153-0affff351501
DTSTAMP:20260421T190507Z
SUMMARY:No School
URL;VALUE=URI:https://www.tusd.org/schools/magruder/calendar/8846364/no-sch
 ool
DTSTART;VALUE=DATE:20260306
DTEND;VALUE=DATE:20260307
END:VEVENT
END:VCALENDAR
