BEGIN:VCALENDAR
VERSION:2.0
PRODID:SchoolNow
CALSCALE:GREGORIAN
BEGIN:VEVENT
UID:44338c1e-fca8-11f0-96d2-0affff351501
DTSTAMP:20260422T011007Z
SUMMARY:BB-Magruder@Lynn-BF
LOCATION:Lynn
URL;VALUE=URI:https://www.tusd.org/schools/magruder/calendar/8846363/bb-mag
 ruder-lynn-bf
DTSTART:20260220T000000Z
DTEND:20260220T020000Z
END:VEVENT
END:VCALENDAR
