BEGIN:VCALENDAR
VERSION:2.0
PRODID:SchoolNow
CALSCALE:GREGORIAN
BEGIN:VEVENT
UID:44338ae8-fca8-11f0-9657-0affff351501
DTSTAMP:20260421T190507Z
SUMMARY:SOMA
URL;VALUE=URI:https://www.tusd.org/schools/magruder/calendar/8846362/soma
DTSTART:20260317T214500Z
DTEND:20260317T221500Z
END:VEVENT
END:VCALENDAR
