BEGIN:VCALENDAR
VERSION:2.0
PRODID:SchoolNow
CALSCALE:GREGORIAN
BEGIN:VEVENT
UID:44338958-fca8-11f0-b050-0affff351501
DTSTAMP:20260421T190507Z
SUMMARY:Family Lunch Day
URL;VALUE=URI:https://www.tusd.org/schools/magruder/calendar/8846361/family
 -lunch-day
DTSTART:20260417T194500Z
DTEND:20260417T203000Z
END:VEVENT
END:VCALENDAR
