BEGIN:VCALENDAR
VERSION:2.0
PRODID:SchoolNow
CALSCALE:GREGORIAN
BEGIN:VEVENT
UID:4433852a-fca8-11f0-8696-0affff351501
DTSTAMP:20260422T011007Z
SUMMARY:BB-Richardson@Magruder-GF
LOCATION:Magruder
URL;VALUE=URI:https://www.tusd.org/schools/magruder/calendar/8846360/bb-ric
 hardson-magruder-gf
DTSTART:20260213T000000Z
DTEND:20260213T020000Z
END:VEVENT
END:VCALENDAR
