BEGIN:VCALENDAR
VERSION:2.0
PRODID:SchoolNow
CALSCALE:GREGORIAN
BEGIN:VEVENT
UID:4cc79510-f01d-11f0-b063-0a58a9feac02
DTSTAMP:20260421T190507Z
SUMMARY:Book Fair @ Library
URL;VALUE=URI:https://www.tusd.org/schools/magruder/calendar/8835322/book-f
 air-library
DTSTART;VALUE=DATE:20260413
DTEND;VALUE=DATE:20260418
END:VEVENT
END:VCALENDAR
