BEGIN:VCALENDAR
VERSION:2.0
PRODID:SchoolNow
CALSCALE:GREGORIAN
BEGIN:VEVENT
UID:75c2d868-eced-11f0-b020-0afffbec22b1
DTSTAMP:20260422T011007Z
SUMMARY:Girls Basket Ball Tryouts
URL;VALUE=URI:https://www.tusd.org/schools/magruder/calendar/8833139/girls-
 basket-ball-tryouts
DTSTART:20260115T233000Z
DTEND:20260116T010000Z
END:VEVENT
END:VCALENDAR
