BEGIN:VCALENDAR
VERSION:2.0
PRODID:SchoolNow
CALSCALE:GREGORIAN
BEGIN:VEVENT
UID:75c2d6f6-eced-11f0-bb6a-0afffbec22b1
DTSTAMP:20260422T011007Z
SUMMARY:Boys Basket Ball Tryouts
URL;VALUE=URI:https://www.tusd.org/schools/magruder/calendar/8833138/boys-b
 asket-ball-tryouts
DTSTART:20260114T233000Z
DTEND:20260115T010000Z
END:VEVENT
END:VCALENDAR
