BEGIN:VCALENDAR
VERSION:2.0
PRODID:SchoolNow
CALSCALE:GREGORIAN
BEGIN:VEVENT
UID:75c2cd5a-eced-11f0-bea1-0afffbec22b1
DTSTAMP:20260422T011007Z
SUMMARY:Boys Basket Ball Tryouts
URL;VALUE=URI:https://www.tusd.org/schools/magruder/calendar/8833137/boys-b
 asket-ball-tryouts
DTSTART:20260112T233000Z
DTEND:20260113T010000Z
END:VEVENT
END:VCALENDAR
