BEGIN:VCALENDAR
VERSION:2.0
PRODID:SchoolNow
CALSCALE:GREGORIAN
BEGIN:VEVENT
UID:be6bc336-c5ab-11f0-ab4d-0a58a9feac02
DTSTAMP:20260422T011007Z
SUMMARY:Early College Apps Due
URL;VALUE=URI:https://www.tusd.org/schools/magruder/calendar/8804487/early-
 college-apps-due
DTSTART;VALUE=DATE:20260116
DTEND;VALUE=DATE:20260117
END:VEVENT
END:VCALENDAR
