BEGIN:VCALENDAR
VERSION:2.0
PRODID:SchoolNow
CALSCALE:GREGORIAN
BEGIN:VEVENT
UID:f70b304a-c0e3-11f0-911c-0a58a9feac02
DTSTAMP:20260422T011007Z
SUMMARY:Dave and Buster's 8th Grade Trip
URL;VALUE=URI:https://www.tusd.org/schools/magruder/calendar/8794236/dave-a
 nd-busters-8th-grade-trip
DTSTART:20260608T180000Z
DTEND:20260608T210000Z
END:VEVENT
END:VCALENDAR
