BEGIN:VCALENDAR
VERSION:2.0
PRODID:SchoolNow
CALSCALE:GREGORIAN
BEGIN:VEVENT
UID:f70b2852-c0e3-11f0-ab6a-0a58a9feac02
DTSTAMP:20260422T011007Z
SUMMARY:8th - Comedy Magic Fundraiser
URL;VALUE=URI:https://www.tusd.org/schools/magruder/calendar/8794234/8th-co
 medy-magic-fundraiser
DTSTART;VALUE=DATE:20260219
DTEND;VALUE=DATE:20260220
END:VEVENT
END:VCALENDAR
