BEGIN:VCALENDAR
VERSION:2.0
PRODID:SchoolNow
CALSCALE:GREGORIAN
BEGIN:VEVENT
UID:7f91cc4c-82d9-11f0-9342-0a58a9feac02
DTSTAMP:20260422T011007Z
SUMMARY:Late Start
URL;VALUE=URI:https://www.tusd.org/schools/magruder/calendar/8547446/late-s
 tart
DTSTART:20260609T162000Z
DTEND:20260609T221600Z
END:VEVENT
END:VCALENDAR
