BEGIN:VCALENDAR
VERSION:2.0
PRODID:SchoolNow
CALSCALE:GREGORIAN
BEGIN:VEVENT
UID:7f91cb70-82d9-11f0-9195-0a58a9feac02
DTSTAMP:20260422T011007Z
SUMMARY:Late Start
URL;VALUE=URI:https://www.tusd.org/schools/magruder/calendar/8547445/late-s
 tart
DTSTART:20260602T162000Z
DTEND:20260602T221600Z
END:VEVENT
END:VCALENDAR
