BEGIN:VCALENDAR
VERSION:2.0
PRODID:SchoolNow
CALSCALE:GREGORIAN
BEGIN:VEVENT
UID:7f91c896-82d9-11f0-a447-0a58a9feac02
DTSTAMP:20260421T190507Z
SUMMARY:Late Start
URL;VALUE=URI:https://www.tusd.org/schools/magruder/calendar/8547442/late-s
 tart
DTSTART:20260512T162000Z
DTEND:20260512T221600Z
END:VEVENT
END:VCALENDAR
