BEGIN:VCALENDAR
VERSION:2.0
PRODID:SchoolNow
CALSCALE:GREGORIAN
BEGIN:VEVENT
UID:7f91c7ba-82d9-11f0-ae3c-0a58a9feac02
DTSTAMP:20260421T190507Z
SUMMARY:Late Start
URL;VALUE=URI:https://www.tusd.org/schools/magruder/calendar/8547441/late-s
 tart
DTSTART:20260505T162000Z
DTEND:20260505T221600Z
END:VEVENT
END:VCALENDAR
