BEGIN:VCALENDAR
VERSION:2.0
PRODID:SchoolNow
CALSCALE:GREGORIAN
BEGIN:VEVENT
UID:7f91c0da-82d9-11f0-b2f6-0a58a9feac02
DTSTAMP:20260421T190507Z
SUMMARY:Late Start
URL;VALUE=URI:https://www.tusd.org/schools/magruder/calendar/8547433/late-s
 tart
DTSTART:20260303T172000Z
DTEND:20260303T231600Z
END:VEVENT
END:VCALENDAR
