BEGIN:VCALENDAR
VERSION:2.0
PRODID:SchoolNow
CALSCALE:GREGORIAN
BEGIN:VEVENT
UID:7f91bf18-82d9-11f0-81bd-0a58a9feac02
DTSTAMP:20260422T011007Z
SUMMARY:Late Start
URL;VALUE=URI:https://www.tusd.org/schools/magruder/calendar/8547431/late-s
 tart
DTSTART:20260217T172000Z
DTEND:20260217T231600Z
END:VEVENT
END:VCALENDAR
