BEGIN:VCALENDAR
VERSION:2.0
PRODID:SchoolNow
CALSCALE:GREGORIAN
BEGIN:VEVENT
UID:7f91bd60-82d9-11f0-a39f-0a58a9feac02
DTSTAMP:20260422T011007Z
SUMMARY:Late Start
URL;VALUE=URI:https://www.tusd.org/schools/magruder/calendar/8547429/late-s
 tart
DTSTART:20260203T172000Z
DTEND:20260203T231600Z
END:VEVENT
END:VCALENDAR
