BEGIN:VCALENDAR
VERSION:2.0
PRODID:SchoolNow
CALSCALE:GREGORIAN
BEGIN:VEVENT
UID:7f91b9d2-82d9-11f0-bb2d-0a58a9feac02
DTSTAMP:20260422T011007Z
SUMMARY:Late Start
URL;VALUE=URI:https://www.tusd.org/schools/magruder/calendar/8547425/late-s
 tart
DTSTART:20260106T172000Z
DTEND:20260106T231600Z
END:VEVENT
END:VCALENDAR
