BEGIN:VCALENDAR
VERSION:2.0
PRODID:SchoolNow
CALSCALE:GREGORIAN
BEGIN:VEVENT
UID:1d0ae8ae-629c-11f0-9aab-02596ac69adb
DTSTAMP:20260422T011007Z
SUMMARY:Return all library and textbooks
URL;VALUE=URI:https://www.tusd.org/schools/magruder/calendar/8421901/return
 -all-library-and-textbooks
DTSTART;VALUE=DATE:20260604
DTEND;VALUE=DATE:20260605
END:VEVENT
END:VCALENDAR
