BEGIN:VCALENDAR
VERSION:2.0
PRODID:SchoolNow
CALSCALE:GREGORIAN
BEGIN:VEVENT
UID:1d0ae75a-629c-11f0-bb32-02596ac69adb
DTSTAMP:20260422T011007Z
SUMMARY:Early Dismissal
URL;VALUE=URI:https://www.tusd.org/schools/magruder/calendar/8421900/early-
 dismissal
DTSTART;VALUE=DATE:20260611
DTEND;VALUE=DATE:20260612
END:VEVENT
END:VCALENDAR
