BEGIN:VCALENDAR
VERSION:2.0
PRODID:SchoolNow
CALSCALE:GREGORIAN
BEGIN:VEVENT
UID:1d0ae610-629c-11f0-ab41-02596ac69adb
DTSTAMP:20260422T011007Z
SUMMARY:8th Gr Promo-6pm NHS
URL;VALUE=URI:https://www.tusd.org/schools/magruder/calendar/8421899/8th-gr
 -promo-6pm-nhs
DTSTART:20260612T010000Z
DTEND:20260612T020000Z
END:VEVENT
END:VCALENDAR
