BEGIN:VCALENDAR
VERSION:2.0
PRODID:SchoolNow
CALSCALE:GREGORIAN
BEGIN:VEVENT
UID:1d0ae4c6-629c-11f0-866c-02596ac69adb
DTSTAMP:20260422T011007Z
SUMMARY:LAST DAY OF SCHOOL
URL;VALUE=URI:https://www.tusd.org/schools/magruder/calendar/8421898/last-d
 ay-of-school
DTSTART;VALUE=DATE:20260611
DTEND;VALUE=DATE:20260612
END:VEVENT
END:VCALENDAR
