BEGIN:VCALENDAR
VERSION:2.0
PRODID:SchoolNow
CALSCALE:GREGORIAN
BEGIN:VEVENT
UID:1d0ae372-629c-11f0-aed5-02596ac69adb
DTSTAMP:20260422T011007Z
SUMMARY:8th Grade Picnic
URL;VALUE=URI:https://www.tusd.org/schools/magruder/calendar/8421897/8th-gr
 ade-picnic
DTSTART:20260610T190000Z
DTEND:20260610T220000Z
END:VEVENT
END:VCALENDAR
