BEGIN:VCALENDAR
VERSION:2.0
PRODID:SchoolNow
CALSCALE:GREGORIAN
BEGIN:VEVENT
UID:1d0ae1e2-629c-11f0-80b7-02596ac69adb
DTSTAMP:20260422T011007Z
SUMMARY:8th Grade Dance
URL;VALUE=URI:https://www.tusd.org/schools/magruder/calendar/8421896/8th-gr
 ade-dance
DTSTART:20260606T020000Z
DTEND:20260606T050000Z
END:VEVENT
END:VCALENDAR
