BEGIN:VCALENDAR
VERSION:2.0
PRODID:SchoolNow
CALSCALE:GREGORIAN
BEGIN:VEVENT
UID:1d0add96-629c-11f0-8bac-02596ac69adb
DTSTAMP:20260421T190507Z
SUMMARY:Daylight Saving Time starts
URL;VALUE=URI:https://www.tusd.org/schools/magruder/calendar/8421891/daylig
 ht-saving-time-starts
DTSTART:20260308T100000Z
DTEND:20260308T100100Z
END:VEVENT
END:VCALENDAR
