BEGIN:VCALENDAR
VERSION:2.0
PRODID:SchoolNow
CALSCALE:GREGORIAN
BEGIN:VEVENT
UID:1d0adcba-629c-11f0-b5ab-02596ac69adb
DTSTAMP:20260422T011007Z
SUMMARY:Palentine's Dance
URL;VALUE=URI:https://www.tusd.org/schools/magruder/calendar/8421890/palent
 ines-dance
DTSTART:20260214T010000Z
DTEND:20260214T030000Z
END:VEVENT
END:VCALENDAR
