BEGIN:VCALENDAR
VERSION:2.0
PRODID:SchoolNow
CALSCALE:GREGORIAN
BEGIN:VEVENT
UID:1d0adbde-629c-11f0-84c8-02596ac69adb
DTSTAMP:20260422T011007Z
SUMMARY:8th Grade Promo Pics
URL;VALUE=URI:https://www.tusd.org/schools/magruder/calendar/8421889/8th-gr
 ade-promo-pics
DTSTART;VALUE=DATE:20260211
DTEND;VALUE=DATE:20260212
END:VEVENT
END:VCALENDAR
