BEGIN:VCALENDAR
VERSION:2.0
PRODID:SchoolNow
CALSCALE:GREGORIAN
BEGIN:VEVENT
UID:1d0adb02-629c-11f0-89e6-02596ac69adb
DTSTAMP:20260422T011007Z
SUMMARY:8th Grade Panoramic Pic
URL;VALUE=URI:https://www.tusd.org/schools/magruder/calendar/8421888/8th-gr
 ade-panoramic-pic
DTSTART:20260217T213000Z
DTEND:20260217T220000Z
END:VEVENT
END:VCALENDAR
