BEGIN:VCALENDAR
VERSION:2.0
PRODID:SchoolNow
CALSCALE:GREGORIAN
BEGIN:VEVENT
UID:1d0ada26-629c-11f0-b9e4-02596ac69adb
DTSTAMP:20260422T011007Z
SUMMARY:No School - Presidents' Day
URL;VALUE=URI:https://www.tusd.org/schools/magruder/calendar/8421887/no-sch
 ool-presidents-day
DTSTART;VALUE=DATE:20260216
DTEND;VALUE=DATE:20260217
END:VEVENT
END:VCALENDAR
