BEGIN:VCALENDAR
VERSION:2.0
PRODID:SchoolNow
CALSCALE:GREGORIAN
BEGIN:VEVENT
UID:1d0ad940-629c-11f0-940f-02596ac69adb
DTSTAMP:20260422T011007Z
SUMMARY:No School - Lincoln Bday
URL;VALUE=URI:https://www.tusd.org/schools/magruder/calendar/8421886/no-sch
 ool-lincoln-bday
DTSTART;VALUE=DATE:20260209
DTEND;VALUE=DATE:20260210
END:VEVENT
END:VCALENDAR
