BEGIN:VCALENDAR
VERSION:2.0
PRODID:SchoolNow
CALSCALE:GREGORIAN
BEGIN:VEVENT
UID:1d0ad85a-629c-11f0-b101-02596ac69adb
DTSTAMP:20260422T011007Z
SUMMARY:MLK Jr. Day - No School
URL;VALUE=URI:https://www.tusd.org/schools/magruder/calendar/8421885/mlk-jr
 -day-no-school
DTSTART;VALUE=DATE:20260119
DTEND;VALUE=DATE:20260120
END:VEVENT
END:VCALENDAR
