BEGIN:VCALENDAR
VERSION:2.0
PRODID:SchoolNow
CALSCALE:GREGORIAN
BEGIN:VEVENT
UID:1fd0f930-39be-11f1-b1b5-0a58a9feac02
DTSTAMP:20260421T073012Z
SUMMARY:Empowerment Club (Last Meeting)
URL;VALUE=URI:https://www.tusd.org/schools/madrona/calendar/8998263/empower
 ment-club-last-meeting
DTSTART:20260512T151500Z
DTEND:20260512T160500Z
END:VEVENT
END:VCALENDAR
