BEGIN:VCALENDAR
VERSION:2.0
PRODID:SchoolNow
CALSCALE:GREGORIAN
BEGIN:VEVENT
UID:41fcef1e-37c0-11f1-a650-0affd94e5437
DTSTAMP:20260424T143513Z
SUMMARY:Late Start -9:25
URL;VALUE=URI:https://www.tusd.org/schools/madrona/calendar/8992228/late-st
 art-9-25
DTSTART;VALUE=DATE:20271214
DTEND;VALUE=DATE:20271215
END:VEVENT
END:VCALENDAR
