BEGIN:VCALENDAR
VERSION:2.0
PRODID:SchoolNow
CALSCALE:GREGORIAN
BEGIN:VEVENT
UID:422395f0-36f4-11f1-a5da-0ef72e229f9f
DTSTAMP:20260421T073012Z
SUMMARY:TUSD Combat Bots Competition
LOCATION:J.H. Hull Middle School\, 2080 231st St\, Torrance\, CA 90501\, US
 A
URL;VALUE=URI:https://www.tusd.org/schools/madrona/calendar/8989840/tusd-co
 mbat-bots-competition
DTSTART:20260515T233000Z
DTEND:20260516T010000Z
ATTACH;FILENAME=7th Annual Combat Bots 2026.pdf;FMTTYPE=application/pdf:htt
 ps://drive.google.com/open?id=1KLTIBMUJIjBiUqarKGeRdj2SFHhStbgD
END:VEVENT
END:VCALENDAR
