BEGIN:VCALENDAR
VERSION:2.0
PRODID:SchoolNow
CALSCALE:GREGORIAN
BEGIN:VEVENT
UID:44c72b7e-36c1-11f1-a9ff-0e7960646567
DTSTAMP:20260421T073012Z
SUMMARY:CAASPP ELA Test - 1:15 pm Early Out
URL;VALUE=URI:https://www.tusd.org/schools/madrona/calendar/8989352/caaspp-
 ela-test-1-15-pm-early-out
DTSTART;VALUE=DATE:20260520
DTEND;VALUE=DATE:20260522
END:VEVENT
END:VCALENDAR
