BEGIN:VCALENDAR
VERSION:2.0
PRODID:SchoolNow
CALSCALE:GREGORIAN
BEGIN:VEVENT
UID:6de1cd80-3391-11f1-b7ca-0a58a9feac02
DTSTAMP:20260421T073012Z
SUMMARY:Wellness Week
URL;VALUE=URI:https://www.tusd.org/schools/madrona/calendar/8979941/wellnes
 s-week
DTSTART;VALUE=DATE:20260511
DTEND;VALUE=DATE:20260516
END:VEVENT
END:VCALENDAR
