BEGIN:VCALENDAR
VERSION:2.0
PRODID:SchoolNow
CALSCALE:GREGORIAN
BEGIN:VEVENT
UID:7d9e9024-325f-11f1-8a61-0a58a9feac02
DTSTAMP:20260421T133515Z
SUMMARY:Accel 7 Sum Accel (10:15am - 12:15 pm
URL;VALUE=URI:https://www.tusd.org/schools/madrona/calendar/8976529/accel-7
 -sum-accel-10-15am-12-15-pm
DTSTART;VALUE=DATE:20260706
DTEND;VALUE=DATE:20260711
END:VEVENT
END:VCALENDAR
