BEGIN:VCALENDAR
VERSION:2.0
PRODID:SchoolNow
CALSCALE:GREGORIAN
BEGIN:VEVENT
UID:7d9e8642-325f-11f1-87c3-0a58a9feac02
DTSTAMP:20260421T133515Z
SUMMARY:Algebra 1 Sum Accel (8:00-10:00 am)
URL;VALUE=URI:https://www.tusd.org/schools/madrona/calendar/8976525/algebra
 -1-sum-accel-8-00-10-00-am
DTSTART;VALUE=DATE:20260713
DTEND;VALUE=DATE:20260715
END:VEVENT
END:VCALENDAR
