BEGIN:VCALENDAR
VERSION:2.0
PRODID:SchoolNow
CALSCALE:GREGORIAN
BEGIN:VEVENT
UID:7d9e825a-325f-11f1-a6dd-0a58a9feac02
DTSTAMP:20260421T133515Z
SUMMARY:Algebra 1 Sum Accel (8-10 am)
URL;VALUE=URI:https://www.tusd.org/schools/madrona/calendar/8976524/algebra
 -1-sum-accel-8-10-am
DTSTART;VALUE=DATE:20260622
DTEND;VALUE=DATE:20260627
END:VEVENT
END:VCALENDAR
