BEGIN:VCALENDAR
VERSION:2.0
PRODID:SchoolNow
CALSCALE:GREGORIAN
BEGIN:VEVENT
UID:814ac4aa-322c-11f1-9ea9-0a58a9feac02
DTSTAMP:20260424T143513Z
SUMMARY:Late Start -9:25
URL;VALUE=URI:https://www.tusd.org/schools/madrona/calendar/8976020/late-st
 art-9-25
DTSTART;VALUE=DATE:20271207
DTEND;VALUE=DATE:20271208
END:VEVENT
END:VCALENDAR
