BEGIN:VCALENDAR
VERSION:2.0
PRODID:SchoolNow
CALSCALE:GREGORIAN
BEGIN:VEVENT
UID:83383e88-31f9-11f1-ae01-0a58a9feac02
DTSTAMP:20260421T133515Z
SUMMARY:Accel 7 Sum Accel (10:15am - 12:15 pm)
LOCATION:Room 14/Bloomfields
URL;VALUE=URI:https://www.tusd.org/schools/madrona/calendar/8974917/accel-7
 -sum-accel-10-15am-12-15-pm
DTSTART;VALUE=DATE:20260615
DTEND;VALUE=DATE:20260620
END:VEVENT
END:VCALENDAR
