BEGIN:VCALENDAR
VERSION:2.0
PRODID:SchoolNow
CALSCALE:GREGORIAN
BEGIN:VEVENT
UID:82f54a74-31f9-11f1-82bd-0a58a9feac02
DTSTAMP:20260421T133515Z
SUMMARY:Algebra 1 Sum Accel (8-10 am)
LOCATION:Room 14/Bloomfields
URL;VALUE=URI:https://www.tusd.org/schools/madrona/calendar/8974916/algebra
 -1-sum-accel-8-10-am
DTSTART;VALUE=DATE:20260615
DTEND;VALUE=DATE:20260620
END:VEVENT
END:VCALENDAR
