BEGIN:VCALENDAR
VERSION:2.0
PRODID:SchoolNow
CALSCALE:GREGORIAN
BEGIN:VEVENT
UID:82f54754-31f9-11f1-88ed-0a58a9feac02
DTSTAMP:20260421T073012Z
SUMMARY:Flag Football - Madrona VS Calle
LOCATION:Madrona Middle School\, 21364 Madrona Ave\, Torrance\, CA 90503\, 
 USA
URL;VALUE=URI:https://www.tusd.org/schools/madrona/calendar/8974915/flag-fo
 otball-madrona-vs-calle
DTSTART;VALUE=DATE:20260416
DTEND;VALUE=DATE:20260417
END:VEVENT
END:VCALENDAR
