BEGIN:VCALENDAR
VERSION:2.0
PRODID:SchoolNow
CALSCALE:GREGORIAN
BEGIN:VEVENT
UID:82f5265c-31f9-11f1-b4ac-0a58a9feac02
DTSTAMP:20260421T073012Z
SUMMARY:Flag Football - Casimir vs Madrona
LOCATION:Casimir Middle School\, 17220 Casimir Ave\, Torrance\, CA 90504\, 
 USA
URL;VALUE=URI:https://www.tusd.org/schools/madrona/calendar/8974914/flag-fo
 otball-casimir-vs-madrona
DTSTART;VALUE=DATE:20260409
DTEND;VALUE=DATE:20260410
END:VEVENT
END:VCALENDAR
