BEGIN:VCALENDAR
VERSION:2.0
PRODID:SchoolNow
CALSCALE:GREGORIAN
BEGIN:VEVENT
UID:97175fe0-3061-11f1-bfcd-0a58a9feac02
DTSTAMP:20260421T073012Z
SUMMARY:Spring Concert
URL;VALUE=URI:https://www.tusd.org/schools/madrona/calendar/8970739/spring-
 concert
DTSTART;VALUE=DATE:20260529
DTEND;VALUE=DATE:20260530
END:VEVENT
END:VCALENDAR
